BEGIN:VCALENDAR
VERSION:2.0
PRODID:-//福智佛教基金會 - ECPv6.15.17.1//NONSGML v1.0//EN
CALSCALE:GREGORIAN
METHOD:PUBLISH
X-WR-CALNAME:福智佛教基金會
X-ORIGINAL-URL:https://buddhism.blisswisdom.org
X-WR-CALDESC:Events for 福智佛教基金會
REFRESH-INTERVAL;VALUE=DURATION:PT1H
X-Robots-Tag:noindex
X-PUBLISHED-TTL:PT1H
BEGIN:VTIMEZONE
TZID:Asia/Taipei
BEGIN:STANDARD
TZOFFSETFROM:+0800
TZOFFSETTO:+0800
TZNAME:CST
DTSTART:20250101T000000
END:STANDARD
END:VTIMEZONE
BEGIN:VEVENT
DTSTART;VALUE=DATE:20261121
DTEND;VALUE=DATE:20261123
DTSTAMP:20260421T071049
CREATED:20260116T033347Z
LAST-MODIFIED:20260116T050856Z
UID:12677-1795219200-1795391999@buddhism.blisswisdom.org
SUMMARY:學制八戒(四)--北桃竹
DESCRIPTION:
URL:https://buddhism.blisswisdom.org/event/%e5%ad%b8%e5%88%b6%e5%85%ab%e6%88%92%e5%9b%9b-%e5%8c%97%e6%a1%83%e7%ab%b9/
LOCATION:宗仰大樓
CATEGORIES:廣論學員
END:VEVENT
BEGIN:VEVENT
DTSTART;VALUE=DATE:20261129
DTEND;VALUE=DATE:20261130
DTSTAMP:20260421T071049
CREATED:20260116T033348Z
LAST-MODIFIED:20260116T051116Z
UID:12679-1795910400-1795996799@buddhism.blisswisdom.org
SUMMARY:一心寺圓根燈會
DESCRIPTION:
URL:https://buddhism.blisswisdom.org/event/%e4%b8%80%e5%bf%83%e5%af%ba%e5%9c%93%e6%a0%b9%e7%87%88%e6%9c%83/
CATEGORIES:廣論學員
END:VEVENT
BEGIN:VEVENT
DTSTART;TZID=Asia/Taipei:20261205T000000
DTEND;TZID=Asia/Taipei:20261206T000000
DTSTAMP:20260421T071049
CREATED:20260116T033356Z
LAST-MODIFIED:20260116T033356Z
UID:12680-1796428800-1796515200@buddhism.blisswisdom.org
SUMMARY:皈依法會(北區場)
DESCRIPTION:
URL:https://buddhism.blisswisdom.org/event/%e7%9a%88%e4%be%9d%e6%b3%95%e6%9c%83%e5%8c%97%e5%8d%80%e5%a0%b4/
LOCATION:鳳山寺
CATEGORIES:廣論學員
END:VEVENT
BEGIN:VEVENT
DTSTART;VALUE=DATE:20261212
DTEND;VALUE=DATE:20261213
DTSTAMP:20260421T071049
CREATED:20260116T033357Z
LAST-MODIFIED:20260116T040501Z
UID:12682-1797033600-1797119999@buddhism.blisswisdom.org
SUMMARY:大般若經法會
DESCRIPTION:
URL:https://buddhism.blisswisdom.org/event/%e5%a4%a7%e8%88%ac%e8%8b%a5%e7%b6%93%e6%b3%95%e6%9c%83-12/
CATEGORIES:廣論學員
END:VEVENT
BEGIN:VEVENT
DTSTART;VALUE=DATE:20261212
DTEND;VALUE=DATE:20261214
DTSTAMP:20260421T071049
CREATED:20260116T033357Z
LAST-MODIFIED:20260116T051415Z
UID:12683-1797033600-1797206399@buddhism.blisswisdom.org
SUMMARY:皈依法會(南區場)
DESCRIPTION:
URL:https://buddhism.blisswisdom.org/event/%e7%9a%88%e4%be%9d%e6%b3%95%e6%9c%83%e5%8d%97%e5%8d%80%e5%a0%b4/
LOCATION:宗仰大樓
CATEGORIES:廣論學員
END:VEVENT
BEGIN:VEVENT
DTSTART;VALUE=DATE:20261213
DTEND;VALUE=DATE:20261214
DTSTAMP:20260421T071049
CREATED:20260116T033358Z
LAST-MODIFIED:20260116T035553Z
UID:12684-1797120000-1797206399@buddhism.blisswisdom.org
SUMMARY:朝山+拜佛
DESCRIPTION:
URL:https://buddhism.blisswisdom.org/event/%e6%9c%9d%e5%b1%b1%e6%8b%9c%e4%bd%9b-12/
CATEGORIES:廣論學員
END:VEVENT
BEGIN:VEVENT
DTSTART;TZID=Asia/Taipei:20261219T000000
DTEND;TZID=Asia/Taipei:20261221T000000
DTSTAMP:20260421T071049
CREATED:20260116T033406Z
LAST-MODIFIED:20260116T033406Z
UID:12686-1797638400-1797811200@buddhism.blisswisdom.org
SUMMARY:居佛十二(乙類)第一周
DESCRIPTION:
URL:https://buddhism.blisswisdom.org/event/%e5%b1%85%e4%bd%9b%e5%8d%81%e4%ba%8c%e4%b9%99%e9%a1%9e%e7%ac%ac%e4%b8%80%e5%91%a8/
LOCATION:線上+各區教室
CATEGORIES:廣論學員
END:VEVENT
BEGIN:VEVENT
DTSTART;TZID=Asia/Taipei:20261219T000000
DTEND;TZID=Asia/Taipei:20261224T000000
DTSTAMP:20260421T071049
CREATED:20260116T033406Z
LAST-MODIFIED:20260116T033406Z
UID:12685-1797638400-1798070400@buddhism.blisswisdom.org
SUMMARY:居佛十二(甲類)
DESCRIPTION:
URL:https://buddhism.blisswisdom.org/event/%e5%b1%85%e4%bd%9b%e5%8d%81%e4%ba%8c%e7%94%b2%e9%a1%9e/
LOCATION:宗仰大樓
CATEGORIES:廣論學員
END:VEVENT
BEGIN:VEVENT
DTSTART;VALUE=DATE:20261226
DTEND;VALUE=DATE:20261227
DTSTAMP:20260421T071049
CREATED:20260116T033407Z
LAST-MODIFIED:20260116T035207Z
UID:12688-1798243200-1798329599@buddhism.blisswisdom.org
SUMMARY:藥師經法會
DESCRIPTION:
URL:https://buddhism.blisswisdom.org/event/%e8%97%a5%e5%b8%ab%e7%b6%93%e6%b3%95%e6%9c%83-11/
CATEGORIES:廣論學員
END:VEVENT
BEGIN:VEVENT
DTSTART;TZID=Asia/Taipei:20261226T000000
DTEND;TZID=Asia/Taipei:20261228T000000
DTSTAMP:20260421T071049
CREATED:20260116T033408Z
LAST-MODIFIED:20260116T033408Z
UID:12689-1798243200-1798416000@buddhism.blisswisdom.org
SUMMARY:居佛十二(乙類)第二周
DESCRIPTION:
URL:https://buddhism.blisswisdom.org/event/%e5%b1%85%e4%bd%9b%e5%8d%81%e4%ba%8c%e4%b9%99%e9%a1%9e%e7%ac%ac%e4%ba%8c%e5%91%a8/
LOCATION:線上+各區教室
CATEGORIES:廣論學員
END:VEVENT
BEGIN:VEVENT
DTSTART;TZID=Asia/Taipei:20261230T000000
DTEND;TZID=Asia/Taipei:20270105T000000
DTSTAMP:20260421T071049
CREATED:20260116T034844Z
LAST-MODIFIED:20260116T051559Z
UID:12691-1798588800-1799107200@buddhism.blisswisdom.org
SUMMARY:一般佛七
DESCRIPTION:
URL:https://buddhism.blisswisdom.org/event/%e4%b8%80%e8%88%ac%e4%bd%9b%e4%b8%83-5/
LOCATION:宗仰大樓
CATEGORIES:廣論學員
END:VEVENT
END:VCALENDAR