BEGIN:VCALENDAR
VERSION:2.0
PRODID:-//福智佛教基金會 - ECPv6.15.17.1//NONSGML v1.0//EN
CALSCALE:GREGORIAN
METHOD:PUBLISH
X-ORIGINAL-URL:https://buddhism.blisswisdom.org
X-WR-CALDESC:Events for 福智佛教基金會
REFRESH-INTERVAL;VALUE=DURATION:PT1H
X-Robots-Tag:noindex
X-PUBLISHED-TTL:PT1H
BEGIN:VTIMEZONE
TZID:Asia/Taipei
BEGIN:STANDARD
TZOFFSETFROM:+0800
TZOFFSETTO:+0800
TZNAME:CST
DTSTART:20250101T000000
END:STANDARD
END:VTIMEZONE
BEGIN:VEVENT
DTSTART;VALUE=DATE:20260808
DTEND;VALUE=DATE:20260809
DTSTAMP:20260420T133946
CREATED:20260116T033127Z
LAST-MODIFIED:20260116T040021Z
UID:12642-1786147200-1786233599@buddhism.blisswisdom.org
SUMMARY:大般若經法會
DESCRIPTION:
URL:https://buddhism.blisswisdom.org/event/%e5%a4%a7%e8%88%ac%e8%8b%a5%e7%b6%93%e6%b3%95%e6%9c%83-8/
CATEGORIES:廣論學員
END:VEVENT
BEGIN:VEVENT
DTSTART;VALUE=DATE:20260816
DTEND;VALUE=DATE:20260817
DTSTAMP:20260420T133946
CREATED:20260116T033128Z
LAST-MODIFIED:20260116T035536Z
UID:12644-1786838400-1786924799@buddhism.blisswisdom.org
SUMMARY:朝山+拜佛
DESCRIPTION:
URL:https://buddhism.blisswisdom.org/event/%e6%9c%9d%e5%b1%b1%e6%8b%9c%e4%bd%9b-8/
CATEGORIES:廣論學員
END:VEVENT
BEGIN:VEVENT
DTSTART;VALUE=DATE:20260822
DTEND;VALUE=DATE:20260823
DTSTAMP:20260420T133946
CREATED:20260116T033220Z
LAST-MODIFIED:20260116T035344Z
UID:12645-1787356800-1787443199@buddhism.blisswisdom.org
SUMMARY:藥師經法會
DESCRIPTION:
URL:https://buddhism.blisswisdom.org/event/%e8%97%a5%e5%b8%ab%e7%b6%93%e6%b3%95%e6%9c%83-7/
CATEGORIES:廣論學員
END:VEVENT
BEGIN:VEVENT
DTSTART;VALUE=DATE:20260823
DTEND;VALUE=DATE:20260824
DTSTAMP:20260420T133946
CREATED:20260116T033220Z
LAST-MODIFIED:20260116T051234Z
UID:12647-1787443200-1787529599@buddhism.blisswisdom.org
SUMMARY:汐止區中元普渡法會
DESCRIPTION:
URL:https://buddhism.blisswisdom.org/event/%e6%b1%90%e6%ad%a2%e5%8d%80%e4%b8%ad%e5%85%83%e6%99%ae%e6%b8%a1%e6%b3%95%e6%9c%83/
CATEGORIES:廣論學員
END:VEVENT
BEGIN:VEVENT
DTSTART;TZID=Asia/Taipei:20260910T000000
DTEND;TZID=Asia/Taipei:20260916T000000
DTSTAMP:20260420T133946
CREATED:20260116T033249Z
LAST-MODIFIED:20260116T033249Z
UID:12651-1788998400-1789516800@buddhism.blisswisdom.org
SUMMARY:增上佛七
DESCRIPTION:
URL:https://buddhism.blisswisdom.org/event/%e5%a2%9e%e4%b8%8a%e4%bd%9b%e4%b8%83-5/
LOCATION:宗仰大樓
CATEGORIES:廣論學員
END:VEVENT
BEGIN:VEVENT
DTSTART;VALUE=DATE:20260912
DTEND;VALUE=DATE:20260913
DTSTAMP:20260420T133946
CREATED:20260116T033249Z
LAST-MODIFIED:20260116T040026Z
UID:12652-1789171200-1789257599@buddhism.blisswisdom.org
SUMMARY:大般若經法會
DESCRIPTION:
URL:https://buddhism.blisswisdom.org/event/%e5%a4%a7%e8%88%ac%e8%8b%a5%e7%b6%93%e6%b3%95%e6%9c%83-9/
CATEGORIES:廣論學員
END:VEVENT
BEGIN:VEVENT
DTSTART;TZID=Asia/Taipei:20260912T000000
DTEND;TZID=Asia/Taipei:20260913T000000
DTSTAMP:20260420T133946
CREATED:20260116T033250Z
LAST-MODIFIED:20260116T033250Z
UID:12653-1789171200-1789257600@buddhism.blisswisdom.org
SUMMARY:廣論青年寺院培訓
DESCRIPTION:
URL:https://buddhism.blisswisdom.org/event/%e5%bb%a3%e8%ab%96%e9%9d%92%e5%b9%b4%e5%af%ba%e9%99%a2%e5%9f%b9%e8%a8%93-9/
LOCATION:鳳山寺
CATEGORIES:廣論學員
END:VEVENT
BEGIN:VEVENT
DTSTART;VALUE=DATE:20260926
DTEND;VALUE=DATE:20260927
DTSTAMP:20260420T133946
CREATED:20260116T033300Z
LAST-MODIFIED:20260116T035350Z
UID:12656-1790380800-1790467199@buddhism.blisswisdom.org
SUMMARY:藥師經法會
DESCRIPTION:
URL:https://buddhism.blisswisdom.org/event/%e8%97%a5%e5%b8%ab%e7%b6%93%e6%b3%95%e6%9c%83-8/
CATEGORIES:廣論學員
END:VEVENT
BEGIN:VEVENT
DTSTART;VALUE=DATE:20260927
DTEND;VALUE=DATE:20260928
DTSTAMP:20260420T133946
CREATED:20260116T033301Z
LAST-MODIFIED:20260116T035540Z
UID:12657-1790467200-1790553599@buddhism.blisswisdom.org
SUMMARY:朝山+拜佛
DESCRIPTION:
URL:https://buddhism.blisswisdom.org/event/%e6%9c%9d%e5%b1%b1%e6%8b%9c%e4%bd%9b-9/
CATEGORIES:廣論學員
END:VEVENT
BEGIN:VEVENT
DTSTART;VALUE=DATE:20261010
DTEND;VALUE=DATE:20261011
DTSTAMP:20260420T133946
CREATED:20260116T033311Z
LAST-MODIFIED:20260116T040031Z
UID:12661-1791590400-1791676799@buddhism.blisswisdom.org
SUMMARY:大般若經法會
DESCRIPTION:
URL:https://buddhism.blisswisdom.org/event/%e5%a4%a7%e8%88%ac%e8%8b%a5%e7%b6%93%e6%b3%95%e6%9c%83-10/
CATEGORIES:廣論學員
END:VEVENT
BEGIN:VEVENT
DTSTART;VALUE=DATE:20261017
DTEND;VALUE=DATE:20261018
DTSTAMP:20260420T133946
CREATED:20260116T033312Z
LAST-MODIFIED:20260116T051419Z
UID:12662-1792195200-1792281599@buddhism.blisswisdom.org
SUMMARY:長青皈依法會(中嘉南區)
DESCRIPTION:
URL:https://buddhism.blisswisdom.org/event/%e9%95%b7%e9%9d%92%e7%9a%88%e4%be%9d%e6%b3%95%e6%9c%83%e4%b8%ad%e5%98%89%e5%8d%97%e5%8d%80/
LOCATION:宗仰大樓
CATEGORIES:廣論學員
END:VEVENT
BEGIN:VEVENT
DTSTART;VALUE=DATE:20261024
DTEND;VALUE=DATE:20261025
DTSTAMP:20260420T133946
CREATED:20260116T033312Z
LAST-MODIFIED:20260116T035357Z
UID:12664-1792800000-1792886399@buddhism.blisswisdom.org
SUMMARY:藥師經法會
DESCRIPTION:
URL:https://buddhism.blisswisdom.org/event/%e8%97%a5%e5%b8%ab%e7%b6%93%e6%b3%95%e6%9c%83-9/
CATEGORIES:廣論學員
END:VEVENT
BEGIN:VEVENT
DTSTART;VALUE=DATE:20261025
DTEND;VALUE=DATE:20261026
DTSTAMP:20260420T133946
CREATED:20260116T033331Z
LAST-MODIFIED:20260116T035545Z
UID:12665-1792886400-1792972799@buddhism.blisswisdom.org
SUMMARY:朝山+拜佛
DESCRIPTION:
URL:https://buddhism.blisswisdom.org/event/%e6%9c%9d%e5%b1%b1%e6%8b%9c%e4%bd%9b-10/
CATEGORIES:廣論學員
END:VEVENT
BEGIN:VEVENT
DTSTART;TZID=Asia/Taipei:20261031T000000
DTEND;TZID=Asia/Taipei:20261102T000000
DTSTAMP:20260420T133946
CREATED:20260116T033332Z
LAST-MODIFIED:20260116T033332Z
UID:12666-1793404800-1793577600@buddhism.blisswisdom.org
SUMMARY:憶師恩法會(現場+直播)
DESCRIPTION:
URL:https://buddhism.blisswisdom.org/event/%e6%86%b6%e5%b8%ab%e6%81%a9%e6%b3%95%e6%9c%83%e7%8f%be%e5%a0%b4%e7%9b%b4%e6%92%ad/
LOCATION:林口體育館
CATEGORIES:廣論學員
END:VEVENT
BEGIN:VEVENT
DTSTART;TZID=Asia/Taipei:20261104T000000
DTEND;TZID=Asia/Taipei:20261110T000000
DTSTAMP:20260420T133946
CREATED:20260116T033333Z
LAST-MODIFIED:20260116T033333Z
UID:12668-1793750400-1794268800@buddhism.blisswisdom.org
SUMMARY:一般佛七
DESCRIPTION:
URL:https://buddhism.blisswisdom.org/event/%e4%b8%80%e8%88%ac%e4%bd%9b%e4%b8%83-4/
LOCATION:宗仰大樓
CATEGORIES:廣論學員
END:VEVENT
BEGIN:VEVENT
DTSTART;VALUE=DATE:20261114
DTEND;VALUE=DATE:20261115
DTSTAMP:20260420T133946
CREATED:20260116T033341Z
LAST-MODIFIED:20260116T040455Z
UID:12670-1794614400-1794700799@buddhism.blisswisdom.org
SUMMARY:大般若經法會
DESCRIPTION:
URL:https://buddhism.blisswisdom.org/event/%e5%a4%a7%e8%88%ac%e8%8b%a5%e7%b6%93%e6%b3%95%e6%9c%83-11/
CATEGORIES:廣論學員
END:VEVENT
BEGIN:VEVENT
DTSTART;TZID=Asia/Taipei:20261114T000000
DTEND;TZID=Asia/Taipei:20261115T000000
DTSTAMP:20260420T133946
CREATED:20260116T033342Z
LAST-MODIFIED:20260116T033342Z
UID:12671-1794614400-1794700800@buddhism.blisswisdom.org
SUMMARY:長青皈依法會(北桃竹)\n11/14-北；11/15-桃竹
DESCRIPTION:
URL:https://buddhism.blisswisdom.org/event/%e9%95%b7%e9%9d%92%e7%9a%88%e4%be%9d%e6%b3%95%e6%9c%83%e5%8c%97%e6%a1%83%e7%ab%b911-14-%e5%8c%97%ef%bc%9b11-15-%e6%a1%83%e7%ab%b9/
LOCATION:鳳山寺
CATEGORIES:廣論學員
END:VEVENT
BEGIN:VEVENT
DTSTART;VALUE=DATE:20261114
DTEND;VALUE=DATE:20261116
DTSTAMP:20260420T133946
CREATED:20260116T033342Z
LAST-MODIFIED:20260116T050901Z
UID:12672-1794614400-1794787199@buddhism.blisswisdom.org
SUMMARY:學制八戒(三)--中嘉南高
DESCRIPTION:
URL:https://buddhism.blisswisdom.org/event/%e5%ad%b8%e5%88%b6%e5%85%ab%e6%88%92%e4%b8%89-%e4%b8%ad%e5%98%89%e5%8d%97%e9%ab%98/
LOCATION:宗仰大樓
CATEGORIES:廣論學員
END:VEVENT
BEGIN:VEVENT
DTSTART;VALUE=DATE:20261115
DTEND;VALUE=DATE:20261116
DTSTAMP:20260420T133946
CREATED:20260116T033343Z
LAST-MODIFIED:20260116T035050Z
UID:12673-1794700800-1794787199@buddhism.blisswisdom.org
SUMMARY:朝山+拜佛
DESCRIPTION:
URL:https://buddhism.blisswisdom.org/event/%e6%9c%9d%e5%b1%b1%e6%8b%9c%e4%bd%9b-11/
CATEGORIES:廣論學員
END:VEVENT
BEGIN:VEVENT
DTSTART;VALUE=DATE:20261121
DTEND;VALUE=DATE:20261122
DTSTAMP:20260420T133946
CREATED:20260116T033346Z
LAST-MODIFIED:20260116T035401Z
UID:12675-1795219200-1795305599@buddhism.blisswisdom.org
SUMMARY:藥師經法會
DESCRIPTION:
URL:https://buddhism.blisswisdom.org/event/%e8%97%a5%e5%b8%ab%e7%b6%93%e6%b3%95%e6%9c%83-10/
CATEGORIES:廣論學員
END:VEVENT
BEGIN:VEVENT
DTSTART;TZID=Asia/Taipei:20261121T000000
DTEND;TZID=Asia/Taipei:20261122T000000
DTSTAMP:20260420T133946
CREATED:20260116T033346Z
LAST-MODIFIED:20260116T033346Z
UID:12676-1795219200-1795305600@buddhism.blisswisdom.org
SUMMARY:廣論青年寺院培訓
DESCRIPTION:
URL:https://buddhism.blisswisdom.org/event/%e5%bb%a3%e8%ab%96%e9%9d%92%e5%b9%b4%e5%af%ba%e9%99%a2%e5%9f%b9%e8%a8%93-10/
CATEGORIES:廣論學員
END:VEVENT
BEGIN:VEVENT
DTSTART;VALUE=DATE:20261121
DTEND;VALUE=DATE:20261123
DTSTAMP:20260420T133946
CREATED:20260116T033347Z
LAST-MODIFIED:20260116T050856Z
UID:12677-1795219200-1795391999@buddhism.blisswisdom.org
SUMMARY:學制八戒(四)--北桃竹
DESCRIPTION:
URL:https://buddhism.blisswisdom.org/event/%e5%ad%b8%e5%88%b6%e5%85%ab%e6%88%92%e5%9b%9b-%e5%8c%97%e6%a1%83%e7%ab%b9/
LOCATION:宗仰大樓
CATEGORIES:廣論學員
END:VEVENT
BEGIN:VEVENT
DTSTART;VALUE=DATE:20261129
DTEND;VALUE=DATE:20261130
DTSTAMP:20260420T133946
CREATED:20260116T033348Z
LAST-MODIFIED:20260116T051116Z
UID:12679-1795910400-1795996799@buddhism.blisswisdom.org
SUMMARY:一心寺圓根燈會
DESCRIPTION:
URL:https://buddhism.blisswisdom.org/event/%e4%b8%80%e5%bf%83%e5%af%ba%e5%9c%93%e6%a0%b9%e7%87%88%e6%9c%83/
CATEGORIES:廣論學員
END:VEVENT
BEGIN:VEVENT
DTSTART;TZID=Asia/Taipei:20261205T000000
DTEND;TZID=Asia/Taipei:20261206T000000
DTSTAMP:20260420T133946
CREATED:20260116T033356Z
LAST-MODIFIED:20260116T033356Z
UID:12680-1796428800-1796515200@buddhism.blisswisdom.org
SUMMARY:皈依法會(北區場)
DESCRIPTION:
URL:https://buddhism.blisswisdom.org/event/%e7%9a%88%e4%be%9d%e6%b3%95%e6%9c%83%e5%8c%97%e5%8d%80%e5%a0%b4/
LOCATION:鳳山寺
CATEGORIES:廣論學員
END:VEVENT
BEGIN:VEVENT
DTSTART;VALUE=DATE:20261212
DTEND;VALUE=DATE:20261213
DTSTAMP:20260420T133946
CREATED:20260116T033357Z
LAST-MODIFIED:20260116T040501Z
UID:12682-1797033600-1797119999@buddhism.blisswisdom.org
SUMMARY:大般若經法會
DESCRIPTION:
URL:https://buddhism.blisswisdom.org/event/%e5%a4%a7%e8%88%ac%e8%8b%a5%e7%b6%93%e6%b3%95%e6%9c%83-12/
CATEGORIES:廣論學員
END:VEVENT
BEGIN:VEVENT
DTSTART;VALUE=DATE:20261212
DTEND;VALUE=DATE:20261214
DTSTAMP:20260420T133946
CREATED:20260116T033357Z
LAST-MODIFIED:20260116T051415Z
UID:12683-1797033600-1797206399@buddhism.blisswisdom.org
SUMMARY:皈依法會(南區場)
DESCRIPTION:
URL:https://buddhism.blisswisdom.org/event/%e7%9a%88%e4%be%9d%e6%b3%95%e6%9c%83%e5%8d%97%e5%8d%80%e5%a0%b4/
LOCATION:宗仰大樓
CATEGORIES:廣論學員
END:VEVENT
BEGIN:VEVENT
DTSTART;VALUE=DATE:20261213
DTEND;VALUE=DATE:20261214
DTSTAMP:20260420T133946
CREATED:20260116T033358Z
LAST-MODIFIED:20260116T035553Z
UID:12684-1797120000-1797206399@buddhism.blisswisdom.org
SUMMARY:朝山+拜佛
DESCRIPTION:
URL:https://buddhism.blisswisdom.org/event/%e6%9c%9d%e5%b1%b1%e6%8b%9c%e4%bd%9b-12/
CATEGORIES:廣論學員
END:VEVENT
BEGIN:VEVENT
DTSTART;TZID=Asia/Taipei:20261219T000000
DTEND;TZID=Asia/Taipei:20261221T000000
DTSTAMP:20260420T133946
CREATED:20260116T033406Z
LAST-MODIFIED:20260116T033406Z
UID:12686-1797638400-1797811200@buddhism.blisswisdom.org
SUMMARY:居佛十二(乙類)第一周
DESCRIPTION:
URL:https://buddhism.blisswisdom.org/event/%e5%b1%85%e4%bd%9b%e5%8d%81%e4%ba%8c%e4%b9%99%e9%a1%9e%e7%ac%ac%e4%b8%80%e5%91%a8/
LOCATION:線上+各區教室
CATEGORIES:廣論學員
END:VEVENT
BEGIN:VEVENT
DTSTART;TZID=Asia/Taipei:20261219T000000
DTEND;TZID=Asia/Taipei:20261224T000000
DTSTAMP:20260420T133946
CREATED:20260116T033406Z
LAST-MODIFIED:20260116T033406Z
UID:12685-1797638400-1798070400@buddhism.blisswisdom.org
SUMMARY:居佛十二(甲類)
DESCRIPTION:
URL:https://buddhism.blisswisdom.org/event/%e5%b1%85%e4%bd%9b%e5%8d%81%e4%ba%8c%e7%94%b2%e9%a1%9e/
LOCATION:宗仰大樓
CATEGORIES:廣論學員
END:VEVENT
BEGIN:VEVENT
DTSTART;VALUE=DATE:20261226
DTEND;VALUE=DATE:20261227
DTSTAMP:20260420T133946
CREATED:20260116T033407Z
LAST-MODIFIED:20260116T035207Z
UID:12688-1798243200-1798329599@buddhism.blisswisdom.org
SUMMARY:藥師經法會
DESCRIPTION:
URL:https://buddhism.blisswisdom.org/event/%e8%97%a5%e5%b8%ab%e7%b6%93%e6%b3%95%e6%9c%83-11/
CATEGORIES:廣論學員
END:VEVENT
END:VCALENDAR