BEGIN:VCALENDAR
VERSION:2.0
PRODID:-//福智佛教基金會 - ECPv6.15.17.1//NONSGML v1.0//EN
CALSCALE:GREGORIAN
METHOD:PUBLISH
X-WR-CALNAME:福智佛教基金會
X-ORIGINAL-URL:https://buddhism.blisswisdom.org
X-WR-CALDESC:Events for 福智佛教基金會
REFRESH-INTERVAL;VALUE=DURATION:PT1H
X-Robots-Tag:noindex
X-PUBLISHED-TTL:PT1H
BEGIN:VTIMEZONE
TZID:Asia/Taipei
BEGIN:STANDARD
TZOFFSETFROM:+0800
TZOFFSETTO:+0800
TZNAME:CST
DTSTART:20250101T000000
END:STANDARD
END:VTIMEZONE
BEGIN:VEVENT
DTSTART;TZID=Asia/Taipei:20260710T000000
DTEND;TZID=Asia/Taipei:20260712T000000
DTSTAMP:20260420T133612
CREATED:20260116T033106Z
LAST-MODIFIED:20260116T033106Z
UID:12632-1783641600-1783814400@buddhism.blisswisdom.org
SUMMARY:淨智營(一)
DESCRIPTION:
URL:https://buddhism.blisswisdom.org/event/%e6%b7%a8%e6%99%ba%e7%87%9f%e4%b8%80/
LOCATION:宗仰大樓
CATEGORIES:廣論學員
END:VEVENT
BEGIN:VEVENT
DTSTART;VALUE=DATE:20260711
DTEND;VALUE=DATE:20260712
DTSTAMP:20260420T133612
CREATED:20260116T033107Z
LAST-MODIFIED:20260116T040017Z
UID:12633-1783728000-1783814399@buddhism.blisswisdom.org
SUMMARY:大般若經法會
DESCRIPTION:
URL:https://buddhism.blisswisdom.org/event/%e5%a4%a7%e8%88%ac%e8%8b%a5%e7%b6%93%e6%b3%95%e6%9c%83-7/
CATEGORIES:廣論學員
END:VEVENT
BEGIN:VEVENT
DTSTART;TZID=Asia/Taipei:20260717T000000
DTEND;TZID=Asia/Taipei:20260719T000000
DTSTAMP:20260420T133612
CREATED:20260116T033116Z
LAST-MODIFIED:20260116T033116Z
UID:12635-1784246400-1784419200@buddhism.blisswisdom.org
SUMMARY:淨智營(二)
DESCRIPTION:
URL:https://buddhism.blisswisdom.org/event/%e6%b7%a8%e6%99%ba%e7%87%9f%e4%ba%8c/
LOCATION:宗仰大樓
CATEGORIES:廣論學員
END:VEVENT
BEGIN:VEVENT
DTSTART;VALUE=DATE:20260719
DTEND;VALUE=DATE:20260720
DTSTAMP:20260420T133612
CREATED:20260116T033116Z
LAST-MODIFIED:20260116T035530Z
UID:12636-1784419200-1784505599@buddhism.blisswisdom.org
SUMMARY:朝山+拜佛
DESCRIPTION:
URL:https://buddhism.blisswisdom.org/event/%e6%9c%9d%e5%b1%b1%e6%8b%9c%e4%bd%9b-7/
CATEGORIES:廣論學員
END:VEVENT
BEGIN:VEVENT
DTSTART;VALUE=DATE:20260725
DTEND;VALUE=DATE:20260726
DTSTAMP:20260420T133612
CREATED:20260116T033118Z
LAST-MODIFIED:20260116T035339Z
UID:12639-1784937600-1785023999@buddhism.blisswisdom.org
SUMMARY:藥師經法會
DESCRIPTION:
URL:https://buddhism.blisswisdom.org/event/%e8%97%a5%e5%b8%ab%e7%b6%93%e6%b3%95%e6%9c%83-6/
CATEGORIES:廣論學員
END:VEVENT
BEGIN:VEVENT
DTSTART;TZID=Asia/Taipei:20260730T000000
DTEND;TZID=Asia/Taipei:20260805T000000
DTSTAMP:20260420T133612
CREATED:20260116T033126Z
LAST-MODIFIED:20260116T033126Z
UID:12640-1785369600-1785888000@buddhism.blisswisdom.org
SUMMARY:一般佛七(教師)
DESCRIPTION:
URL:https://buddhism.blisswisdom.org/event/%e4%b8%80%e8%88%ac%e4%bd%9b%e4%b8%83%e6%95%99%e5%b8%ab-2/
LOCATION:宗仰大樓
CATEGORIES:廣論學員
END:VEVENT
END:VCALENDAR