BEGIN:VCALENDAR
VERSION:2.0
PRODID:-//福智佛教基金會 - ECPv6.15.17.1//NONSGML v1.0//EN
CALSCALE:GREGORIAN
METHOD:PUBLISH
X-ORIGINAL-URL:https://buddhism.blisswisdom.org
X-WR-CALDESC:Events for 福智佛教基金會
REFRESH-INTERVAL;VALUE=DURATION:PT1H
X-Robots-Tag:noindex
X-PUBLISHED-TTL:PT1H
BEGIN:VTIMEZONE
TZID:Asia/Taipei
BEGIN:STANDARD
TZOFFSETFROM:+0800
TZOFFSETTO:+0800
TZNAME:CST
DTSTART:20250101T000000
END:STANDARD
END:VTIMEZONE
BEGIN:VEVENT
DTSTART;VALUE=DATE:20260613
DTEND;VALUE=DATE:20260614
DTSTAMP:20260420T120600
CREATED:20260116T032916Z
LAST-MODIFIED:20260116T040012Z
UID:12621-1781308800-1781395199@buddhism.blisswisdom.org
SUMMARY:大般若經法會
DESCRIPTION:
URL:https://buddhism.blisswisdom.org/event/%e5%a4%a7%e8%88%ac%e8%8b%a5%e7%b6%93%e6%b3%95%e6%9c%83-6/
CATEGORIES:廣論學員
END:VEVENT
BEGIN:VEVENT
DTSTART;TZID=Asia/Taipei:20260613T000000
DTEND;TZID=Asia/Taipei:20260614T000000
DTSTAMP:20260420T120600
CREATED:20260116T032917Z
LAST-MODIFIED:20260116T032917Z
UID:12622-1781308800-1781395200@buddhism.blisswisdom.org
SUMMARY:廣論青年寺院培訓
DESCRIPTION:
URL:https://buddhism.blisswisdom.org/event/%e5%bb%a3%e8%ab%96%e9%9d%92%e5%b9%b4%e5%af%ba%e9%99%a2%e5%9f%b9%e8%a8%93-8/
CATEGORIES:廣論學員
END:VEVENT
BEGIN:VEVENT
DTSTART;VALUE=DATE:20260621
DTEND;VALUE=DATE:20260622
DTSTAMP:20260420T120600
CREATED:20260116T032925Z
LAST-MODIFIED:20260116T035522Z
UID:12624-1782000000-1782086399@buddhism.blisswisdom.org
SUMMARY:朝山+拜佛
DESCRIPTION:
URL:https://buddhism.blisswisdom.org/event/%e6%9c%9d%e5%b1%b1%e6%8b%9c%e4%bd%9b-6/
CATEGORIES:廣論學員
END:VEVENT
BEGIN:VEVENT
DTSTART;TZID=Asia/Taipei:20260623T000000
DTEND;TZID=Asia/Taipei:20260629T000000
DTSTAMP:20260420T120600
CREATED:20260116T032926Z
LAST-MODIFIED:20260116T032926Z
UID:12625-1782172800-1782691200@buddhism.blisswisdom.org
SUMMARY:增上佛七
DESCRIPTION:
URL:https://buddhism.blisswisdom.org/event/%e5%a2%9e%e4%b8%8a%e4%bd%9b%e4%b8%83-4/
LOCATION:宗仰大樓
CATEGORIES:廣論學員
END:VEVENT
BEGIN:VEVENT
DTSTART;VALUE=DATE:20260627
DTEND;VALUE=DATE:20260628
DTSTAMP:20260420T120600
CREATED:20260116T032926Z
LAST-MODIFIED:20260116T035334Z
UID:12626-1782518400-1782604799@buddhism.blisswisdom.org
SUMMARY:藥師經法會
DESCRIPTION:
URL:https://buddhism.blisswisdom.org/event/%e8%97%a5%e5%b8%ab%e7%b6%93%e6%b3%95%e6%9c%83-5/
CATEGORIES:廣論學員
END:VEVENT
BEGIN:VEVENT
DTSTART;TZID=Asia/Taipei:20260627T000000
DTEND;TZID=Asia/Taipei:20260701T000000
DTSTAMP:20260420T120600
CREATED:20260116T032927Z
LAST-MODIFIED:20260116T032927Z
UID:12627-1782518400-1782864000@buddhism.blisswisdom.org
SUMMARY:南海寺生命探索營
DESCRIPTION:
URL:https://buddhism.blisswisdom.org/event/%e5%8d%97%e6%b5%b7%e5%af%ba%e7%94%9f%e5%91%bd%e6%8e%a2%e7%b4%a2%e7%87%9f/
CATEGORIES:廣論學員
END:VEVENT
END:VCALENDAR