BEGIN:VCALENDAR
VERSION:2.0
PRODID:-//福智佛教基金會 - ECPv6.15.17.1//NONSGML v1.0//EN
CALSCALE:GREGORIAN
METHOD:PUBLISH
X-ORIGINAL-URL:https://buddhism.blisswisdom.org
X-WR-CALDESC:Events for 福智佛教基金會
REFRESH-INTERVAL;VALUE=DURATION:PT1H
X-Robots-Tag:noindex
X-PUBLISHED-TTL:PT1H
BEGIN:VTIMEZONE
TZID:Asia/Taipei
BEGIN:DAYLIGHT
TZOFFSETFROM:+0800
TZOFFSETTO:+0900
TZNAME:CDT
DTSTART:19740331T160000
END:DAYLIGHT
BEGIN:STANDARD
TZOFFSETFROM:+0900
TZOFFSETTO:+0800
TZNAME:CST
DTSTART:19740930T150000
END:STANDARD
BEGIN:DAYLIGHT
TZOFFSETFROM:+0800
TZOFFSETTO:+0900
TZNAME:CDT
DTSTART:19750331T160000
END:DAYLIGHT
BEGIN:STANDARD
TZOFFSETFROM:+0900
TZOFFSETTO:+0800
TZNAME:CST
DTSTART:19750930T150000
END:STANDARD
BEGIN:DAYLIGHT
TZOFFSETFROM:+0800
TZOFFSETTO:+0900
TZNAME:CDT
DTSTART:19790630T160000
END:DAYLIGHT
BEGIN:STANDARD
TZOFFSETFROM:+0900
TZOFFSETTO:+0800
TZNAME:CST
DTSTART:19790930T150000
END:STANDARD
END:VTIMEZONE
BEGIN:VEVENT
DTSTART;VALUE=DATE:20260419
DTEND;VALUE=DATE:20260420
DTSTAMP:20260420T121906
CREATED:20260116T032835Z
LAST-MODIFIED:20260116T035512Z
UID:12601-1776556800-1776643199@buddhism.blisswisdom.org
SUMMARY:朝山+拜佛
DESCRIPTION:
URL:https://buddhism.blisswisdom.org/event/%e6%9c%9d%e5%b1%b1%e6%8b%9c%e4%bd%9b-4/
CATEGORIES:廣論學員
END:VEVENT
BEGIN:VEVENT
DTSTART;TZID=Asia/Taipei:20260418T000000
DTEND;TZID=Asia/Taipei:20260419T000000
DTSTAMP:20260420T121906
CREATED:20260116T032834Z
LAST-MODIFIED:20260116T032834Z
UID:12600-1776470400-1776556800@buddhism.blisswisdom.org
SUMMARY:廣論青年寺院培訓
DESCRIPTION:
URL:https://buddhism.blisswisdom.org/event/%e5%bb%a3%e8%ab%96%e9%9d%92%e5%b9%b4%e5%af%ba%e9%99%a2%e5%9f%b9%e8%a8%93-6/
CATEGORIES:廣論學員
END:VEVENT
BEGIN:VEVENT
DTSTART;TZID=Asia/Taipei:20260411T000000
DTEND;TZID=Asia/Taipei:20260412T000000
DTSTAMP:20260420T121906
CREATED:20260116T032834Z
LAST-MODIFIED:20260116T032834Z
UID:12599-1775865600-1775952000@buddhism.blisswisdom.org
SUMMARY:尼僧培
DESCRIPTION:
URL:https://buddhism.blisswisdom.org/event/%e5%b0%bc%e5%83%a7%e5%9f%b9/
CATEGORIES:廣論學員
END:VEVENT
BEGIN:VEVENT
DTSTART;VALUE=DATE:20260411
DTEND;VALUE=DATE:20260413
DTSTAMP:20260420T121906
CREATED:20260116T032828Z
LAST-MODIFIED:20260116T050914Z
UID:12597-1775865600-1776038399@buddhism.blisswisdom.org
SUMMARY:學制八戒(二)--中嘉南高
DESCRIPTION:
URL:https://buddhism.blisswisdom.org/event/%e5%ad%b8%e5%88%b6%e5%85%ab%e6%88%92%e4%ba%8c-%e4%b8%ad%e5%98%89%e5%8d%97%e9%ab%98/
LOCATION:宗仰大樓
CATEGORIES:廣論學員
END:VEVENT
BEGIN:VEVENT
DTSTART;VALUE=DATE:20260411
DTEND;VALUE=DATE:20260412
DTSTAMP:20260420T121906
CREATED:20260116T032829Z
LAST-MODIFIED:20260116T040003Z
UID:12598-1775865600-1775951999@buddhism.blisswisdom.org
SUMMARY:大般若經法會
DESCRIPTION:
URL:https://buddhism.blisswisdom.org/event/%e5%a4%a7%e8%88%ac%e8%8b%a5%e7%b6%93%e6%b3%95%e6%9c%83-4/
CATEGORIES:廣論學員
END:VEVENT
BEGIN:VEVENT
DTSTART;VALUE=DATE:20260328
DTEND;VALUE=DATE:20260329
DTSTAMP:20260420T121906
CREATED:20260116T032801Z
LAST-MODIFIED:20260116T035256Z
UID:12593-1774656000-1774742399@buddhism.blisswisdom.org
SUMMARY:藥師經法會
DESCRIPTION:
URL:https://buddhism.blisswisdom.org/event/%e8%97%a5%e5%b8%ab%e7%b6%93%e6%b3%95%e6%9c%83-2/
CATEGORIES:廣論學員
END:VEVENT
BEGIN:VEVENT
DTSTART;TZID=Asia/Taipei:20260321T000000
DTEND;TZID=Asia/Taipei:20260322T000000
DTSTAMP:20260420T121906
CREATED:20260116T032801Z
LAST-MODIFIED:20260116T032801Z
UID:12592-1774051200-1774137600@buddhism.blisswisdom.org
SUMMARY:廣論青年寺院培訓
DESCRIPTION:
URL:https://buddhism.blisswisdom.org/event/%e5%bb%a3%e8%ab%96%e9%9d%92%e5%b9%b4%e5%af%ba%e9%99%a2%e5%9f%b9%e8%a8%93-5/
CATEGORIES:廣論學員
END:VEVENT
BEGIN:VEVENT
DTSTART;VALUE=DATE:20260320
DTEND;VALUE=DATE:20260323
DTSTAMP:20260420T121906
CREATED:20260116T032759Z
LAST-MODIFIED:20260116T050919Z
UID:12591-1773964800-1774223999@buddhism.blisswisdom.org
SUMMARY:北桃竹長青八戒法會3/20-21北 ; 3/22桃竹
DESCRIPTION:
URL:https://buddhism.blisswisdom.org/event/%e5%8c%97%e6%a1%83%e7%ab%b9%e9%95%b7%e9%9d%92%e5%85%ab%e6%88%92%e6%b3%95%e6%9c%833-20-21%e5%8c%97-3-22%e6%a1%83%e7%ab%b9/
LOCATION:鳳山寺
CATEGORIES:廣論學員
END:VEVENT
BEGIN:VEVENT
DTSTART;VALUE=DATE:20260315
DTEND;VALUE=DATE:20260316
DTSTAMP:20260420T121906
CREATED:20260116T032758Z
LAST-MODIFIED:20260116T035507Z
UID:12589-1773532800-1773619199@buddhism.blisswisdom.org
SUMMARY:朝山+拜佛
DESCRIPTION:
URL:https://buddhism.blisswisdom.org/event/%e6%9c%9d%e5%b1%b1%e6%8b%9c%e4%bd%9b-3/
CATEGORIES:廣論學員
END:VEVENT
BEGIN:VEVENT
DTSTART;VALUE=DATE:20260314
DTEND;VALUE=DATE:20260316
DTSTAMP:20260420T121906
CREATED:20260116T032744Z
LAST-MODIFIED:20260116T050924Z
UID:12588-1773446400-1773619199@buddhism.blisswisdom.org
SUMMARY:學制八戒(一)--北桃竹
DESCRIPTION:
URL:https://buddhism.blisswisdom.org/event/%e5%ad%b8%e5%88%b6%e5%85%ab%e6%88%92%e4%b8%80-%e5%8c%97%e6%a1%83%e7%ab%b9/
LOCATION:宗仰大樓
CATEGORIES:廣論學員
END:VEVENT
BEGIN:VEVENT
DTSTART;VALUE=DATE:20260314
DTEND;VALUE=DATE:20260315
DTSTAMP:20260420T121906
CREATED:20260116T032744Z
LAST-MODIFIED:20260116T035957Z
UID:12587-1773446400-1773532799@buddhism.blisswisdom.org
SUMMARY:大般若經法會
DESCRIPTION:
URL:https://buddhism.blisswisdom.org/event/%e5%a4%a7%e8%88%ac%e8%8b%a5%e7%b6%93%e6%b3%95%e6%9c%83-3/
CATEGORIES:廣論學員
END:VEVENT
BEGIN:VEVENT
DTSTART;VALUE=DATE:20260307
DTEND;VALUE=DATE:20260308
DTSTAMP:20260420T121906
CREATED:20260116T032742Z
LAST-MODIFIED:20260116T050254Z
UID:12584-1772841600-1772927999@buddhism.blisswisdom.org
SUMMARY:鳳山寺啟燈法會
DESCRIPTION:
URL:https://buddhism.blisswisdom.org/event/%e9%b3%b3%e5%b1%b1%e5%af%ba%e5%95%9f%e7%87%88%e6%b3%95%e6%9c%83/
CATEGORIES:廣論學員
END:VEVENT
BEGIN:VEVENT
DTSTART;TZID=Asia/Taipei:20260227T000000
DTEND;TZID=Asia/Taipei:20260304T000000
DTSTAMP:20260420T121906
CREATED:20260116T032719Z
LAST-MODIFIED:20260116T032719Z
UID:12583-1772150400-1772582400@buddhism.blisswisdom.org
SUMMARY:祈願法會--寺院實體\n(主副場連線但教室不連線)
DESCRIPTION:
URL:https://buddhism.blisswisdom.org/event/%e7%a5%88%e9%a1%98%e6%b3%95%e6%9c%83-%e5%af%ba%e9%99%a2%e5%af%a6%e9%ab%94%e4%b8%bb%e5%89%af%e5%a0%b4%e9%80%a3%e7%b7%9a%e4%bd%86%e6%95%99%e5%ae%a4%e4%b8%8d%e9%80%a3%e7%b7%9a/
CATEGORIES:廣論學員
END:VEVENT
BEGIN:VEVENT
DTSTART;VALUE=DATE:20260222
DTEND;VALUE=DATE:20260223
DTSTAMP:20260420T121907
CREATED:20260116T032719Z
LAST-MODIFIED:20260116T035502Z
UID:12582-1771718400-1771804799@buddhism.blisswisdom.org
SUMMARY:朝山+拜佛
DESCRIPTION:
URL:https://buddhism.blisswisdom.org/event/%e6%9c%9d%e5%b1%b1%e6%8b%9c%e4%bd%9b-2/
CATEGORIES:廣論學員
END:VEVENT
BEGIN:VEVENT
DTSTART;TZID=Asia/Taipei:20260221T000000
DTEND;TZID=Asia/Taipei:20260222T000000
DTSTAMP:20260420T121907
CREATED:20260116T032718Z
LAST-MODIFIED:20260116T032718Z
UID:12581-1771632000-1771718400@buddhism.blisswisdom.org
SUMMARY:朝禮法會(月稱光明寺)(初五六)
DESCRIPTION:
URL:https://buddhism.blisswisdom.org/event/%e6%9c%9d%e7%a6%ae%e6%b3%95%e6%9c%83%e6%9c%88%e7%a8%b1%e5%85%89%e6%98%8e%e5%af%ba%e5%88%9d%e4%ba%94%e5%85%ad/
CATEGORIES:廣論學員
END:VEVENT
BEGIN:VEVENT
DTSTART;VALUE=DATE:20260221
DTEND;VALUE=DATE:20260222
DTSTAMP:20260420T121907
CREATED:20260116T032718Z
LAST-MODIFIED:20260116T041652Z
UID:12580-1771632000-1771718399@buddhism.blisswisdom.org
SUMMARY:朝禮法會(高區)(初五)
DESCRIPTION:
URL:https://buddhism.blisswisdom.org/event/%e6%9c%9d%e7%a6%ae%e6%b3%95%e6%9c%83%e9%ab%98%e5%8d%80%e5%88%9d%e4%ba%94/
CATEGORIES:廣論學員
END:VEVENT
BEGIN:VEVENT
DTSTART;VALUE=DATE:20260220
DTEND;VALUE=DATE:20260221
DTSTAMP:20260420T121907
CREATED:20260116T032717Z
LAST-MODIFIED:20260116T041657Z
UID:12579-1771545600-1771631999@buddhism.blisswisdom.org
SUMMARY:朝禮法會(中嘉南園)(初四)
DESCRIPTION:
URL:https://buddhism.blisswisdom.org/event/%e6%9c%9d%e7%a6%ae%e6%b3%95%e6%9c%83%e4%b8%ad%e5%98%89%e5%8d%97%e5%9c%92%e5%88%9d%e5%9b%9b/
LOCATION:園區
CATEGORIES:廣論學員
END:VEVENT
BEGIN:VEVENT
DTSTART;VALUE=DATE:20260214
DTEND;VALUE=DATE:20260215
DTSTAMP:20260420T121907
CREATED:20260116T032504Z
LAST-MODIFIED:20260116T035951Z
UID:12573-1771027200-1771113599@buddhism.blisswisdom.org
SUMMARY:大般若經法會
DESCRIPTION:
URL:https://buddhism.blisswisdom.org/event/%e5%a4%a7%e8%88%ac%e8%8b%a5%e7%b6%93%e6%b3%95%e6%9c%83-2/
CATEGORIES:廣論學員
END:VEVENT
BEGIN:VEVENT
DTSTART;VALUE=DATE:20260207
DTEND;VALUE=DATE:20260208
DTSTAMP:20260420T121907
CREATED:20260116T032503Z
LAST-MODIFIED:20260116T041601Z
UID:12572-1770422400-1770508799@buddhism.blisswisdom.org
SUMMARY:鳳山寺謝燈法會
DESCRIPTION:
URL:https://buddhism.blisswisdom.org/event/%e9%b3%b3%e5%b1%b1%e5%af%ba%e8%ac%9d%e7%87%88%e6%b3%95%e6%9c%83/
CATEGORIES:廣論學員
END:VEVENT
BEGIN:VEVENT
DTSTART;TZID=Asia/Taipei:20260131T000000
DTEND;TZID=Asia/Taipei:20260201T000000
DTSTAMP:20260420T121907
CREATED:20260116T032502Z
LAST-MODIFIED:20260116T032502Z
UID:12570-1769817600-1769904000@buddhism.blisswisdom.org
SUMMARY:廣培+廣青提升營
DESCRIPTION:
URL:https://buddhism.blisswisdom.org/event/%e5%bb%a3%e5%9f%b9%e5%bb%a3%e9%9d%92%e6%8f%90%e5%8d%87%e7%87%9f/
CATEGORIES:廣論學員
END:VEVENT
BEGIN:VEVENT
DTSTART;VALUE=DATE:20260125
DTEND;VALUE=DATE:20260126
DTSTAMP:20260420T121907
CREATED:20260116T032502Z
LAST-MODIFIED:20260116T035456Z
UID:12569-1769299200-1769385599@buddhism.blisswisdom.org
SUMMARY:朝山+拜佛
DESCRIPTION:
URL:https://buddhism.blisswisdom.org/event/%e6%9c%9d%e5%b1%b1%e6%8b%9c%e4%bd%9b/
CATEGORIES:廣論學員
END:VEVENT
BEGIN:VEVENT
DTSTART;VALUE=DATE:20260124
DTEND;VALUE=DATE:20260125
DTSTAMP:20260420T121907
CREATED:20260116T032448Z
LAST-MODIFIED:20260116T035246Z
UID:12568-1769212800-1769299199@buddhism.blisswisdom.org
SUMMARY:藥師經法會
DESCRIPTION:
URL:https://buddhism.blisswisdom.org/event/%e8%97%a5%e5%b8%ab%e7%b6%93%e6%b3%95%e6%9c%83/
CATEGORIES:廣論學員
END:VEVENT
BEGIN:VEVENT
DTSTART;TZID=Asia/Taipei:20260117T000000
DTEND;TZID=Asia/Taipei:20260119T000000
DTSTAMP:20260420T121907
CREATED:20260116T032447Z
LAST-MODIFIED:20260116T032447Z
UID:12566-1768608000-1768780800@buddhism.blisswisdom.org
SUMMARY:居佛十一(乙類)第二週
DESCRIPTION:
URL:https://buddhism.blisswisdom.org/event/%e5%b1%85%e4%bd%9b%e5%8d%81%e4%b8%80%e4%b9%99%e9%a1%9e%e7%ac%ac%e4%ba%8c%e9%80%b1/
LOCATION:線上+各區教室
CATEGORIES:廣論學員
END:VEVENT
BEGIN:VEVENT
DTSTART;TZID=Asia/Taipei:20260116T000000
DTEND;TZID=Asia/Taipei:20260117T000000
DTSTAMP:20260420T121907
CREATED:20260116T034855Z
LAST-MODIFIED:20260116T034855Z
UID:12696-1768521600-1768608000@buddhism.blisswisdom.org
SUMMARY:廣論青年寺院培訓
DESCRIPTION:
URL:https://buddhism.blisswisdom.org/event/%e5%bb%a3%e8%ab%96%e9%9d%92%e5%b9%b4%e5%af%ba%e9%99%a2%e5%9f%b9%e8%a8%93-11/
LOCATION:鳳山寺
CATEGORIES:廣論學員
END:VEVENT
BEGIN:VEVENT
DTSTART;TZID=Asia/Taipei:20260110T000000
DTEND;TZID=Asia/Taipei:20260112T000000
DTSTAMP:20260420T121907
CREATED:20260116T032446Z
LAST-MODIFIED:20260116T032446Z
UID:12565-1768003200-1768176000@buddhism.blisswisdom.org
SUMMARY:居佛十一(乙類)第一週
DESCRIPTION:
URL:https://buddhism.blisswisdom.org/event/%e5%b1%85%e4%bd%9b%e5%8d%81%e4%b8%80%e4%b9%99%e9%a1%9e%e7%ac%ac%e4%b8%80%e9%80%b1/
LOCATION:線上+各區教室
CATEGORIES:廣論學員
END:VEVENT
BEGIN:VEVENT
DTSTART;VALUE=DATE:20260109
DTEND;VALUE=DATE:20260110
DTSTAMP:20260420T121907
CREATED:20260116T034846Z
LAST-MODIFIED:20260116T040505Z
UID:12694-1767916800-1768003199@buddhism.blisswisdom.org
SUMMARY:大般若經法會
DESCRIPTION:
URL:https://buddhism.blisswisdom.org/event/%e5%a4%a7%e8%88%ac%e8%8b%a5%e7%b6%93%e6%b3%95%e6%9c%83-13/
CATEGORIES:廣論學員
END:VEVENT
BEGIN:VEVENT
DTSTART;VALUE=DATE:20260103
DTEND;VALUE=DATE:20260104
DTSTAMP:20260420T121907
CREATED:20260116T032443Z
LAST-MODIFIED:20260116T035947Z
UID:12561-1767398400-1767484799@buddhism.blisswisdom.org
SUMMARY:大般若經法會
DESCRIPTION:
URL:https://buddhism.blisswisdom.org/event/%e5%a4%a7%e8%88%ac%e8%8b%a5%e7%b6%93%e6%b3%95%e6%9c%83/
CATEGORIES:廣論學員
END:VEVENT
BEGIN:VEVENT
DTSTART;TZID=Asia/Taipei:20260420T121907
DTEND;TZID=Asia/Taipei:20260420T121907
DTSTAMP:20260420T121907
CREATED:20260116T033301Z
LAST-MODIFIED:20260116T033301Z
UID:12658-0-0@buddhism.blisswisdom.org
SUMMARY:印度請法團
DESCRIPTION:
URL:https://buddhism.blisswisdom.org/event/%e5%8d%b0%e5%ba%a6%e8%ab%8b%e6%b3%95%e5%9c%98/
CATEGORIES:廣論學員
END:VEVENT
END:VCALENDAR