BEGIN:VCALENDAR
VERSION:2.0
PRODID:-//福智佛教基金會 - ECPv6.15.17.1//NONSGML v1.0//EN
CALSCALE:GREGORIAN
METHOD:PUBLISH
X-WR-CALNAME:福智佛教基金會
X-ORIGINAL-URL:https://buddhism.blisswisdom.org
X-WR-CALDESC:Events for 福智佛教基金會
REFRESH-INTERVAL;VALUE=DURATION:PT1H
X-Robots-Tag:noindex
X-PUBLISHED-TTL:PT1H
BEGIN:VTIMEZONE
TZID:Asia/Taipei
BEGIN:STANDARD
TZOFFSETFROM:+0800
TZOFFSETTO:+0800
TZNAME:CST
DTSTART:20250101T000000
END:STANDARD
END:VTIMEZONE
BEGIN:VEVENT
DTSTART;VALUE=DATE:20260509
DTEND;VALUE=DATE:20260510
DTSTAMP:20260420T104622
CREATED:20260116T032846Z
LAST-MODIFIED:20260116T035744Z
UID:12607-1778284800-1778371199@buddhism.blisswisdom.org
SUMMARY:全區班長班
DESCRIPTION:
URL:https://buddhism.blisswisdom.org/event/%e5%85%a8%e5%8d%80%e7%8f%ad%e9%95%b7%e7%8f%ad-13/
LOCATION:線上+各區教室
CATEGORIES:幹部(含淨智班幹部)
END:VEVENT
END:VCALENDAR