BEGIN:VCALENDAR
VERSION:2.0
PRODID:-//福智佛教基金會 - ECPv6.15.17.1//NONSGML v1.0//EN
CALSCALE:GREGORIAN
METHOD:PUBLISH
X-ORIGINAL-URL:https://buddhism.blisswisdom.org
X-WR-CALDESC:Events for 福智佛教基金會
REFRESH-INTERVAL;VALUE=DURATION:PT1H
X-Robots-Tag:noindex
X-PUBLISHED-TTL:PT1H
BEGIN:VTIMEZONE
TZID:Asia/Taipei
BEGIN:STANDARD
TZOFFSETFROM:+0800
TZOFFSETTO:+0800
TZNAME:CST
DTSTART:20250101T000000
END:STANDARD
END:VTIMEZONE
BEGIN:VEVENT
DTSTART;VALUE=DATE:20261101
DTEND;VALUE=DATE:20261102
DTSTAMP:20260420T140503
CREATED:20260116T033332Z
LAST-MODIFIED:20260116T040752Z
UID:12667-1793491200-1793577599@buddhism.blisswisdom.org
SUMMARY:每月超薦法會
DESCRIPTION:
URL:https://buddhism.blisswisdom.org/event/%e6%af%8f%e6%9c%88%e8%b6%85%e8%96%a6%e6%b3%95%e6%9c%83-8/
CATEGORIES:外部非學員(福友)
END:VEVENT
BEGIN:VEVENT
DTSTART;VALUE=DATE:20261115
DTEND;VALUE=DATE:20261116
DTSTAMP:20260420T140503
CREATED:20260116T033343Z
LAST-MODIFIED:20260116T041930Z
UID:12674-1794700800-1794787199@buddhism.blisswisdom.org
SUMMARY:藥師寶懺
DESCRIPTION:
URL:https://buddhism.blisswisdom.org/event/%e8%97%a5%e5%b8%ab%e5%af%b6%e6%87%ba-6/
CATEGORIES:外部非學員(福友)
END:VEVENT
END:VCALENDAR