BEGIN:VCALENDAR
VERSION:2.0
PRODID:-//福智佛教基金會 - ECPv6.15.17.1//NONSGML v1.0//EN
CALSCALE:GREGORIAN
METHOD:PUBLISH
X-ORIGINAL-URL:https://buddhism.blisswisdom.org
X-WR-CALDESC:Events for 福智佛教基金會
REFRESH-INTERVAL;VALUE=DURATION:PT1H
X-Robots-Tag:noindex
X-PUBLISHED-TTL:PT1H
BEGIN:VTIMEZONE
TZID:Asia/Taipei
BEGIN:STANDARD
TZOFFSETFROM:+0800
TZOFFSETTO:+0800
TZNAME:CST
DTSTART:20250101T000000
END:STANDARD
END:VTIMEZONE
BEGIN:VEVENT
DTSTART;VALUE=DATE:20261004
DTEND;VALUE=DATE:20261005
DTSTAMP:20260420T123235
CREATED:20260116T033311Z
LAST-MODIFIED:20260116T040747Z
UID:12660-1791072000-1791158399@buddhism.blisswisdom.org
SUMMARY:每月超薦法會
DESCRIPTION:
URL:https://buddhism.blisswisdom.org/event/%e6%af%8f%e6%9c%88%e8%b6%85%e8%96%a6%e6%b3%95%e6%9c%83-7/
CATEGORIES:外部非學員(福友)
END:VEVENT
BEGIN:VEVENT
DTSTART;VALUE=DATE:20261018
DTEND;VALUE=DATE:20261019
DTSTAMP:20260420T123235
CREATED:20260116T033312Z
LAST-MODIFIED:20260116T051035Z
UID:12663-1792281600-1792367999@buddhism.blisswisdom.org
SUMMARY:大悲懺
DESCRIPTION:
URL:https://buddhism.blisswisdom.org/event/%e5%a4%a7%e6%82%b2%e6%87%ba-3/
CATEGORIES:外部非學員(福友)
END:VEVENT
END:VCALENDAR