BEGIN:VCALENDAR
VERSION:2.0
PRODID:-//福智佛教基金會 - ECPv6.15.17.1//NONSGML v1.0//EN
CALSCALE:GREGORIAN
METHOD:PUBLISH
X-WR-CALNAME:福智佛教基金會
X-ORIGINAL-URL:https://buddhism.blisswisdom.org
X-WR-CALDESC:Events for 福智佛教基金會
REFRESH-INTERVAL;VALUE=DURATION:PT1H
X-Robots-Tag:noindex
X-PUBLISHED-TTL:PT1H
BEGIN:VTIMEZONE
TZID:Asia/Taipei
BEGIN:STANDARD
TZOFFSETFROM:+0800
TZOFFSETTO:+0800
TZNAME:CST
DTSTART:20250101T000000
END:STANDARD
END:VTIMEZONE
BEGIN:VEVENT
DTSTART;VALUE=DATE:20260920
DTEND;VALUE=DATE:20260921
DTSTAMP:20260420T104549
CREATED:20260116T033250Z
LAST-MODIFIED:20260116T041926Z
UID:12654-1789862400-1789948799@buddhism.blisswisdom.org
SUMMARY:藥師寶懺
DESCRIPTION:
URL:https://buddhism.blisswisdom.org/event/%e8%97%a5%e5%b8%ab%e5%af%b6%e6%87%ba-5/
CATEGORIES:外部非學員(福友)
END:VEVENT
BEGIN:VEVENT
DTSTART;VALUE=DATE:20260920
DTEND;VALUE=DATE:20260921
DTSTAMP:20260420T104549
CREATED:20260116T033259Z
LAST-MODIFIED:20260116T051311Z
UID:12655-1789862400-1789948799@buddhism.blisswisdom.org
SUMMARY:心光傳愛音樂會
DESCRIPTION:
URL:https://buddhism.blisswisdom.org/event/%e5%bf%83%e5%85%89%e5%82%b3%e6%84%9b%e9%9f%b3%e6%a8%82%e6%9c%83/
CATEGORIES:外部非學員(福友)
END:VEVENT
END:VCALENDAR