BEGIN:VCALENDAR
VERSION:2.0
PRODID:-//福智佛教基金會 - ECPv6.15.17.1//NONSGML v1.0//EN
CALSCALE:GREGORIAN
METHOD:PUBLISH
X-ORIGINAL-URL:https://buddhism.blisswisdom.org
X-WR-CALDESC:Events for 福智佛教基金會
REFRESH-INTERVAL;VALUE=DURATION:PT1H
X-Robots-Tag:noindex
X-PUBLISHED-TTL:PT1H
BEGIN:VTIMEZONE
TZID:Asia/Taipei
BEGIN:STANDARD
TZOFFSETFROM:+0800
TZOFFSETTO:+0800
TZNAME:CST
DTSTART:20250101T000000
END:STANDARD
END:VTIMEZONE
BEGIN:VEVENT
DTSTART;VALUE=DATE:20260607
DTEND;VALUE=DATE:20260608
DTSTAMP:20260420T054902
CREATED:20260116T032916Z
LAST-MODIFIED:20260116T040717Z
UID:12620-1780790400-1780876799@buddhism.blisswisdom.org
SUMMARY:每月超薦法會
DESCRIPTION:
URL:https://buddhism.blisswisdom.org/event/%e6%af%8f%e6%9c%88%e8%b6%85%e8%96%a6%e6%b3%95%e6%9c%83-4/
CATEGORIES:外部非學員(福友)
END:VEVENT
BEGIN:VEVENT
DTSTART;VALUE=DATE:20260621
DTEND;VALUE=DATE:20260622
DTSTAMP:20260420T054902
CREATED:20260116T032917Z
LAST-MODIFIED:20260116T041922Z
UID:12623-1782000000-1782086399@buddhism.blisswisdom.org
SUMMARY:藥師寶懺
DESCRIPTION:
URL:https://buddhism.blisswisdom.org/event/%e8%97%a5%e5%b8%ab%e5%af%b6%e6%87%ba-4/
CATEGORIES:外部非學員(福友)
END:VEVENT
END:VCALENDAR