BEGIN:VCALENDAR
VERSION:2.0
PRODID:-//福智佛教基金會 - ECPv6.15.17.1//NONSGML v1.0//EN
CALSCALE:GREGORIAN
METHOD:PUBLISH
X-ORIGINAL-URL:https://buddhism.blisswisdom.org
X-WR-CALDESC:Events for 福智佛教基金會
REFRESH-INTERVAL;VALUE=DURATION:PT1H
X-Robots-Tag:noindex
X-PUBLISHED-TTL:PT1H
BEGIN:VTIMEZONE
TZID:Asia/Taipei
BEGIN:STANDARD
TZOFFSETFROM:+0800
TZOFFSETTO:+0800
TZNAME:CST
DTSTART:20250101T000000
END:STANDARD
END:VTIMEZONE
BEGIN:VEVENT
DTSTART;VALUE=DATE:20260201
DTEND;VALUE=DATE:20260202
DTSTAMP:20260420T060625
CREATED:20260116T032503Z
LAST-MODIFIED:20260116T040645Z
UID:12571-1769904000-1769990399@buddhism.blisswisdom.org
SUMMARY:每月超薦法會
DESCRIPTION:
URL:https://buddhism.blisswisdom.org/event/%e6%af%8f%e6%9c%88%e8%b6%85%e8%96%a6%e6%b3%95%e6%9c%83-2/
CATEGORIES:外部非學員(福友)
END:VEVENT
BEGIN:VEVENT
DTSTART;VALUE=DATE:20260216
DTEND;VALUE=DATE:20260217
DTSTAMP:20260420T060625
CREATED:20260116T032517Z
LAST-MODIFIED:20260116T040650Z
UID:12574-1771200000-1771286399@buddhism.blisswisdom.org
SUMMARY:除夕上供超薦法會
DESCRIPTION:
URL:https://buddhism.blisswisdom.org/event/%e9%99%a4%e5%a4%95%e4%b8%8a%e4%be%9b%e8%b6%85%e8%96%a6%e6%b3%95%e6%9c%83/
CATEGORIES:外部非學員(福友)
END:VEVENT
BEGIN:VEVENT
DTSTART;VALUE=DATE:20260217
DTEND;VALUE=DATE:20260218
DTSTAMP:20260420T060625
CREATED:20260116T032517Z
LAST-MODIFIED:20260116T040657Z
UID:12575-1771286400-1771372799@buddhism.blisswisdom.org
SUMMARY:初一新春上供超薦/   老信徒皈依法會
DESCRIPTION:
URL:https://buddhism.blisswisdom.org/event/%e5%88%9d%e4%b8%80%e6%96%b0%e6%98%a5%e4%b8%8a%e4%be%9b%e8%b6%85%e8%96%a6-%e8%80%81%e4%bf%a1%e5%be%92%e7%9a%88%e4%be%9d%e6%b3%95%e6%9c%83/
CATEGORIES:外部非學員(福友)
END:VEVENT
BEGIN:VEVENT
DTSTART;TZID=Asia/Taipei:20260217T000000
DTEND;TZID=Asia/Taipei:20260219T000000
DTSTAMP:20260420T060625
CREATED:20260116T032518Z
LAST-MODIFIED:20260116T032518Z
UID:12576-1771286400-1771459200@buddhism.blisswisdom.org
SUMMARY:三千佛法會
DESCRIPTION:
URL:https://buddhism.blisswisdom.org/event/%e4%b8%89%e5%8d%83%e4%bd%9b%e6%b3%95%e6%9c%83/
CATEGORIES:外部非學員(福友)
END:VEVENT
BEGIN:VEVENT
DTSTART;TZID=Asia/Taipei:20260218T000000
DTEND;TZID=Asia/Taipei:20260219T000000
DTSTAMP:20260420T060625
CREATED:20260116T032518Z
LAST-MODIFIED:20260116T032518Z
UID:12577-1771372800-1771459200@buddhism.blisswisdom.org
SUMMARY:朝禮法會(北桃竹)(初二三)
DESCRIPTION:
URL:https://buddhism.blisswisdom.org/event/%e6%9c%9d%e7%a6%ae%e6%b3%95%e6%9c%83%e5%8c%97%e6%a1%83%e7%ab%b9%e5%88%9d%e4%ba%8c%e4%b8%89/
LOCATION:鳳山寺
CATEGORIES:外部非學員(福友)
END:VEVENT
BEGIN:VEVENT
DTSTART;TZID=Asia/Taipei:20260220T000000
DTEND;TZID=Asia/Taipei:20260221T000000
DTSTAMP:20260420T060625
CREATED:20260116T032519Z
LAST-MODIFIED:20260116T032519Z
UID:12578-1771545600-1771632000@buddhism.blisswisdom.org
SUMMARY:鳳山寺春節活動(初四五)
DESCRIPTION:
URL:https://buddhism.blisswisdom.org/event/%e9%b3%b3%e5%b1%b1%e5%af%ba%e6%98%a5%e7%af%80%e6%b4%bb%e5%8b%95%e5%88%9d%e5%9b%9b%e4%ba%94/
CATEGORIES:外部非學員(福友)
END:VEVENT
END:VCALENDAR