BEGIN:VCALENDAR
VERSION:2.0
PRODID:-//福智佛教基金會 - ECPv6.15.17.1//NONSGML v1.0//EN
CALSCALE:GREGORIAN
METHOD:PUBLISH
X-WR-CALNAME:福智佛教基金會
X-ORIGINAL-URL:https://buddhism.blisswisdom.org
X-WR-CALDESC:Events for 福智佛教基金會
REFRESH-INTERVAL;VALUE=DURATION:PT1H
X-Robots-Tag:noindex
X-PUBLISHED-TTL:PT1H
BEGIN:VTIMEZONE
TZID:Asia/Taipei
BEGIN:STANDARD
TZOFFSETFROM:+0800
TZOFFSETTO:+0800
TZNAME:CST
DTSTART:20250101T000000
END:STANDARD
END:VTIMEZONE
BEGIN:VEVENT
DTSTART;TZID=Asia/Taipei:20260704T000000
DTEND;TZID=Asia/Taipei:20260708T000000
DTSTAMP:20260420T090904
CREATED:20260116T033106Z
LAST-MODIFIED:20260116T033106Z
UID:12630-1783123200-1783468800@buddhism.blisswisdom.org
SUMMARY:第一期生命探索營
DESCRIPTION:
URL:https://buddhism.blisswisdom.org/event/%e7%ac%ac%e4%b8%80%e6%9c%9f%e7%94%9f%e5%91%bd%e6%8e%a2%e7%b4%a2%e7%87%9f/
LOCATION:宗仰大樓
CATEGORIES:外部非學員(福友)
END:VEVENT
BEGIN:VEVENT
DTSTART;VALUE=DATE:20260705
DTEND;VALUE=DATE:20260706
DTSTAMP:20260420T090904
CREATED:20260116T033106Z
LAST-MODIFIED:20260116T040722Z
UID:12631-1783209600-1783295999@buddhism.blisswisdom.org
SUMMARY:每月超薦法會
DESCRIPTION:
URL:https://buddhism.blisswisdom.org/event/%e6%af%8f%e6%9c%88%e8%b6%85%e8%96%a6%e6%b3%95%e6%9c%83-5/
CATEGORIES:外部非學員(福友)
END:VEVENT
BEGIN:VEVENT
DTSTART;TZID=Asia/Taipei:20260717T000000
DTEND;TZID=Asia/Taipei:20260719T000000
DTSTAMP:20260420T090904
CREATED:20260116T033107Z
LAST-MODIFIED:20260116T033107Z
UID:12634-1784246400-1784419200@buddhism.blisswisdom.org
SUMMARY:卓越青年生命探索營
DESCRIPTION:
URL:https://buddhism.blisswisdom.org/event/%e5%8d%93%e8%b6%8a%e9%9d%92%e5%b9%b4%e7%94%9f%e5%91%bd%e6%8e%a2%e7%b4%a2%e7%87%9f/
CATEGORIES:外部非學員(福友)
END:VEVENT
BEGIN:VEVENT
DTSTART;VALUE=DATE:20260719
DTEND;VALUE=DATE:20260720
DTSTAMP:20260420T090904
CREATED:20260116T033117Z
LAST-MODIFIED:20260116T051030Z
UID:12637-1784419200-1784505599@buddhism.blisswisdom.org
SUMMARY:大悲懺
DESCRIPTION:
URL:https://buddhism.blisswisdom.org/event/%e5%a4%a7%e6%82%b2%e6%87%ba-2/
CATEGORIES:外部非學員(福友)
END:VEVENT
BEGIN:VEVENT
DTSTART;TZID=Asia/Taipei:20260725T000000
DTEND;TZID=Asia/Taipei:20260728T000000
DTSTAMP:20260420T090904
CREATED:20260116T033117Z
LAST-MODIFIED:20260116T033117Z
UID:12638-1784937600-1785196800@buddhism.blisswisdom.org
SUMMARY:第二期生命探索營
DESCRIPTION:
URL:https://buddhism.blisswisdom.org/event/%e7%ac%ac%e4%ba%8c%e6%9c%9f%e7%94%9f%e5%91%bd%e6%8e%a2%e7%b4%a2%e7%87%9f/
LOCATION:宗仰大樓
CATEGORIES:外部非學員(福友)
END:VEVENT
BEGIN:VEVENT
DTSTART;VALUE=DATE:20260802
DTEND;VALUE=DATE:20260803
DTSTAMP:20260420T090904
CREATED:20260116T033126Z
LAST-MODIFIED:20260116T040728Z
UID:12641-1785628800-1785715199@buddhism.blisswisdom.org
SUMMARY:每月超薦法會
DESCRIPTION:
URL:https://buddhism.blisswisdom.org/event/%e6%af%8f%e6%9c%88%e8%b6%85%e8%96%a6%e6%b3%95%e6%9c%83-6/
CATEGORIES:外部非學員(福友)
END:VEVENT
BEGIN:VEVENT
DTSTART;VALUE=DATE:20260823
DTEND;VALUE=DATE:20260824
DTSTAMP:20260420T090904
CREATED:20260116T033221Z
LAST-MODIFIED:20260116T040737Z
UID:12648-1787443200-1787529599@buddhism.blisswisdom.org
SUMMARY:台中市聯合超薦
DESCRIPTION:
URL:https://buddhism.blisswisdom.org/event/%e5%8f%b0%e4%b8%ad%e5%b8%82%e8%81%af%e5%90%88%e8%b6%85%e8%96%a6/
CATEGORIES:外部非學員(福友)
END:VEVENT
BEGIN:VEVENT
DTSTART;VALUE=DATE:20260823
DTEND;VALUE=DATE:20260826
DTSTAMP:20260420T090904
CREATED:20260116T033220Z
LAST-MODIFIED:20260116T040732Z
UID:12646-1787443200-1787702399@buddhism.blisswisdom.org
SUMMARY:超薦祈福法會
DESCRIPTION:
URL:https://buddhism.blisswisdom.org/event/%e8%b6%85%e8%96%a6%e7%a5%88%e7%a6%8f%e6%b3%95%e6%9c%83/
CATEGORIES:外部非學員(福友)
END:VEVENT
BEGIN:VEVENT
DTSTART;VALUE=DATE:20260825
DTEND;VALUE=DATE:20260828
DTSTAMP:20260420T090904
CREATED:20260116T033221Z
LAST-MODIFIED:20260116T040742Z
UID:12649-1787616000-1787875199@buddhism.blisswisdom.org
SUMMARY:秋季超薦誦經法會
DESCRIPTION:
URL:https://buddhism.blisswisdom.org/event/%e7%a7%8b%e5%ad%a3%e8%b6%85%e8%96%a6%e8%aa%a6%e7%b6%93%e6%b3%95%e6%9c%83/
CATEGORIES:外部非學員(福友)
END:VEVENT
BEGIN:VEVENT
DTSTART;VALUE=DATE:20260920
DTEND;VALUE=DATE:20260921
DTSTAMP:20260420T090904
CREATED:20260116T033250Z
LAST-MODIFIED:20260116T041926Z
UID:12654-1789862400-1789948799@buddhism.blisswisdom.org
SUMMARY:藥師寶懺
DESCRIPTION:
URL:https://buddhism.blisswisdom.org/event/%e8%97%a5%e5%b8%ab%e5%af%b6%e6%87%ba-5/
CATEGORIES:外部非學員(福友)
END:VEVENT
BEGIN:VEVENT
DTSTART;VALUE=DATE:20260920
DTEND;VALUE=DATE:20260921
DTSTAMP:20260420T090904
CREATED:20260116T033259Z
LAST-MODIFIED:20260116T051311Z
UID:12655-1789862400-1789948799@buddhism.blisswisdom.org
SUMMARY:心光傳愛音樂會
DESCRIPTION:
URL:https://buddhism.blisswisdom.org/event/%e5%bf%83%e5%85%89%e5%82%b3%e6%84%9b%e9%9f%b3%e6%a8%82%e6%9c%83/
CATEGORIES:外部非學員(福友)
END:VEVENT
BEGIN:VEVENT
DTSTART;VALUE=DATE:20261004
DTEND;VALUE=DATE:20261005
DTSTAMP:20260420T090904
CREATED:20260116T033311Z
LAST-MODIFIED:20260116T040747Z
UID:12660-1791072000-1791158399@buddhism.blisswisdom.org
SUMMARY:每月超薦法會
DESCRIPTION:
URL:https://buddhism.blisswisdom.org/event/%e6%af%8f%e6%9c%88%e8%b6%85%e8%96%a6%e6%b3%95%e6%9c%83-7/
CATEGORIES:外部非學員(福友)
END:VEVENT
BEGIN:VEVENT
DTSTART;VALUE=DATE:20261018
DTEND;VALUE=DATE:20261019
DTSTAMP:20260420T090904
CREATED:20260116T033312Z
LAST-MODIFIED:20260116T051035Z
UID:12663-1792281600-1792367999@buddhism.blisswisdom.org
SUMMARY:大悲懺
DESCRIPTION:
URL:https://buddhism.blisswisdom.org/event/%e5%a4%a7%e6%82%b2%e6%87%ba-3/
CATEGORIES:外部非學員(福友)
END:VEVENT
BEGIN:VEVENT
DTSTART;VALUE=DATE:20261101
DTEND;VALUE=DATE:20261102
DTSTAMP:20260420T090904
CREATED:20260116T033332Z
LAST-MODIFIED:20260116T040752Z
UID:12667-1793491200-1793577599@buddhism.blisswisdom.org
SUMMARY:每月超薦法會
DESCRIPTION:
URL:https://buddhism.blisswisdom.org/event/%e6%af%8f%e6%9c%88%e8%b6%85%e8%96%a6%e6%b3%95%e6%9c%83-8/
CATEGORIES:外部非學員(福友)
END:VEVENT
BEGIN:VEVENT
DTSTART;VALUE=DATE:20261115
DTEND;VALUE=DATE:20261116
DTSTAMP:20260420T090904
CREATED:20260116T033343Z
LAST-MODIFIED:20260116T041930Z
UID:12674-1794700800-1794787199@buddhism.blisswisdom.org
SUMMARY:藥師寶懺
DESCRIPTION:
URL:https://buddhism.blisswisdom.org/event/%e8%97%a5%e5%b8%ab%e5%af%b6%e6%87%ba-6/
CATEGORIES:外部非學員(福友)
END:VEVENT
BEGIN:VEVENT
DTSTART;VALUE=DATE:20261206
DTEND;VALUE=DATE:20261207
DTSTAMP:20260420T090904
CREATED:20260116T033356Z
LAST-MODIFIED:20260116T040756Z
UID:12681-1796515200-1796601599@buddhism.blisswisdom.org
SUMMARY:每月超薦法會
DESCRIPTION:
URL:https://buddhism.blisswisdom.org/event/%e6%af%8f%e6%9c%88%e8%b6%85%e8%96%a6%e6%b3%95%e6%9c%83-9/
CATEGORIES:外部非學員(福友)
END:VEVENT
BEGIN:VEVENT
DTSTART;VALUE=DATE:20261220
DTEND;VALUE=DATE:20261221
DTSTAMP:20260420T090904
CREATED:20260116T033407Z
LAST-MODIFIED:20260116T050126Z
UID:12687-1797724800-1797811199@buddhism.blisswisdom.org
SUMMARY:藥師寶懺
DESCRIPTION:
URL:https://buddhism.blisswisdom.org/event/%e8%97%a5%e5%b8%ab%e5%af%b6%e6%87%ba-7/
CATEGORIES:外部非學員(福友)
END:VEVENT
BEGIN:VEVENT
DTSTART;VALUE=DATE:20261231
DTEND;VALUE=DATE:20270102
DTSTAMP:20260420T090904
CREATED:20260116T032442Z
LAST-MODIFIED:20260116T051624Z
UID:12559-1798675200-1798847999@buddhism.blisswisdom.org
SUMMARY:跨年拜佛用功法會(原為：全球拜佛日)
DESCRIPTION:
URL:https://buddhism.blisswisdom.org/event/%e8%b7%a8%e5%b9%b4%e6%8b%9c%e4%bd%9b%e7%94%a8%e5%8a%9f%e6%b3%95%e6%9c%83%e5%8e%9f%e7%82%ba%ef%bc%9a%e5%85%a8%e7%90%83%e6%8b%9c%e4%bd%9b%e6%97%a5/
LOCATION:線上+各區教室
CATEGORIES:外部非學員(福友)
END:VEVENT
END:VCALENDAR